BEGIN:VCALENDAR
VERSION:2.0
PRODID:-//EVPQ - ECPv6.15.20//NONSGML v1.0//EN
CALSCALE:GREGORIAN
METHOD:PUBLISH
X-ORIGINAL-URL:https://www.evpq.ca
X-WR-CALDESC:Évènements pour EVPQ
REFRESH-INTERVAL;VALUE=DURATION:PT1H
X-Robots-Tag:noindex
X-PUBLISHED-TTL:PT1H
BEGIN:VTIMEZONE
TZID:America/New_York
BEGIN:DAYLIGHT
TZOFFSETFROM:-0500
TZOFFSETTO:-0400
TZNAME:EDT
DTSTART:20240310T070000
END:DAYLIGHT
BEGIN:STANDARD
TZOFFSETFROM:-0400
TZOFFSETTO:-0500
TZNAME:EST
DTSTART:20241103T060000
END:STANDARD
BEGIN:DAYLIGHT
TZOFFSETFROM:-0500
TZOFFSETTO:-0400
TZNAME:EDT
DTSTART:20250309T070000
END:DAYLIGHT
BEGIN:STANDARD
TZOFFSETFROM:-0400
TZOFFSETTO:-0500
TZNAME:EST
DTSTART:20251102T060000
END:STANDARD
BEGIN:DAYLIGHT
TZOFFSETFROM:-0500
TZOFFSETTO:-0400
TZNAME:EDT
DTSTART:20260308T070000
END:DAYLIGHT
BEGIN:STANDARD
TZOFFSETFROM:-0400
TZOFFSETTO:-0500
TZNAME:EST
DTSTART:20261101T060000
END:STANDARD
END:VTIMEZONE
BEGIN:VEVENT
DTSTART;TZID=America/New_York:20251026T140000
DTEND;TZID=America/New_York:20251026T140000
DTSTAMP:20260420T155939
CREATED:20250425T180551Z
LAST-MODIFIED:20251107T144149Z
UID:2655-1761487200-1761487200@www.evpq.ca
SUMMARY:Airs de famille
DESCRIPTION:Dimanche le 26 octobre 2025 à 14h00 (bazar musical GRATUIT à partir de 13h00) \nSalle Henri-Gagnon\, Pavillon Louis-Jacques-Casault\, Université Laval \nDirection musicale et artistique : René Joly \nRedécouvrez avec l’EVPQ ces Airs de famille que vous connaissez bien ! Qu’il s’agisse des Incroyables ou de la Famille Addams\, ces familles ont marqué notre imaginaire. Vous pourrez d’ailleurs en profiter pour prendre votre propre portrait de famille ! \nLe concert familial du dimanche est précédé d’un bazar musical gratuit à partir de 13h00. Le bazar musical est une collection d’activités éducatives (essai d’instruments\, atelier pour apprenti chef d’orchestre\, cercle de percussions\, etc.) pour enfants de 6 ans et plus. \nAu programme : \n\nHarry Potter ― arr. Robert W. Smith\nDisney Festival ― arr. Toshio Mashima\nLa Famille Addams ― arr. Ted Ricketts\nLes Incroyables ― arr. Jay Bocook\nMaman\, j’ai raté l’avion ― arr. Paul Lavender\nLa Mélodie du bonheur ― arr. Robert Russell Bennett\nRoller Coaster ― Otto M. Schwarz\nCountry Band March ― Charles Ives\nGrand Serenade for an Awful Lot of Winds and Percussion ― P.D.Q. Bach\n\nAcheter un billet \nAutre date disponible : Samedi le 25 octobre à 19h30 Je préfère le 25 octobre!
URL:https://www.evpq.ca/evenement/airs-de-famille-2/
LOCATION:Salle Henri-Gagnon\, Université Laval
CATEGORIES:Concerts passés 2025-2026
ATTACH;FMTTYPE=image/png:https://www.evpq.ca/wp-content/uploads/2025/04/SNE-EVPQ-Airdefamille_Web_V05_Referencement_1200x630.png
END:VEVENT
END:VCALENDAR