BEGIN:VCALENDAR
VERSION:2.0
PRODID:-//EVPQ - ECPv6.15.20//NONSGML v1.0//EN
CALSCALE:GREGORIAN
METHOD:PUBLISH
X-ORIGINAL-URL:https://www.evpq.ca
X-WR-CALDESC:Évènements pour EVPQ
REFRESH-INTERVAL;VALUE=DURATION:PT1H
X-Robots-Tag:noindex
X-PUBLISHED-TTL:PT1H
BEGIN:VTIMEZONE
TZID:America/New_York
BEGIN:DAYLIGHT
TZOFFSETFROM:-0500
TZOFFSETTO:-0400
TZNAME:EDT
DTSTART:20250309T070000
END:DAYLIGHT
BEGIN:STANDARD
TZOFFSETFROM:-0400
TZOFFSETTO:-0500
TZNAME:EST
DTSTART:20251102T060000
END:STANDARD
BEGIN:DAYLIGHT
TZOFFSETFROM:-0500
TZOFFSETTO:-0400
TZNAME:EDT
DTSTART:20260308T070000
END:DAYLIGHT
BEGIN:STANDARD
TZOFFSETFROM:-0400
TZOFFSETTO:-0500
TZNAME:EST
DTSTART:20261101T060000
END:STANDARD
BEGIN:DAYLIGHT
TZOFFSETFROM:-0500
TZOFFSETTO:-0400
TZNAME:EDT
DTSTART:20270314T070000
END:DAYLIGHT
BEGIN:STANDARD
TZOFFSETFROM:-0400
TZOFFSETTO:-0500
TZNAME:EST
DTSTART:20271107T060000
END:STANDARD
END:VTIMEZONE
BEGIN:VEVENT
DTSTART;TZID=America/New_York:20260214T193000
DTEND;TZID=America/New_York:20260214T193000
DTSTAMP:20260420T060655
CREATED:20250425T180701Z
LAST-MODIFIED:20260411T142325Z
UID:2657-1771097400-1771097400@www.evpq.ca
SUMMARY:Vents d'hiver
DESCRIPTION:Samedi le 14 février 2026 à 19h30 \nSalle Henri-Gagnon\, Pavillon Louis-Jacques-Casault\, Université Laval \nDirection musicale et artistique : René Joly \nSortez vos ceintures fléchées et venez célébrer avec l’EVPQ la splendeur hivernale ! Vents d’hiver vous permettra de découvrir les coups de cœurs hivernaux des compositeurs d’ici et d’ailleurs : le Québec\, le Saint-Laurent\, et les somptueux paysages d’ici. \nAu programme : \n\nZima : Ouverture pour l’hiver ― J. M. Suijkerbuijk\nLa Soirée du hockey ― Dolores Claman\, arr. Howard Cable\nKebek : Rhapsodie boréale ― Jan Van der Roost\nÉchos du Saint-Laurent : Suite de chansons folkloriques québécoises ― Philip Sparke\nEchoes of a Northern Lake ― Cait Nishimura\nSnow Caps ― Richard L. Saucedo\nThe Minnesota Portraits ― Carl Schroeder\n\nAcheter un billet \n 
URL:https://www.evpq.ca/evenement/vents-dhiver/
LOCATION:Salle Henri-Gagnon\, Université Laval
CATEGORIES:Concerts passés 2025-2026
ATTACH;FMTTYPE=image/png:https://www.evpq.ca/wp-content/uploads/2025/04/SNE-EVPQ-Ventsdhiver_Web_V01_Referencement_1200x630.png
END:VEVENT
END:VCALENDAR