BEGIN:VCALENDAR
VERSION:2.0
PRODID:-//EVPQ - ECPv6.15.20//NONSGML v1.0//EN
CALSCALE:GREGORIAN
METHOD:PUBLISH
X-WR-CALNAME:EVPQ
X-ORIGINAL-URL:https://www.evpq.ca
X-WR-CALDESC:Évènements pour EVPQ
REFRESH-INTERVAL;VALUE=DURATION:PT1H
X-Robots-Tag:noindex
X-PUBLISHED-TTL:PT1H
BEGIN:VTIMEZONE
TZID:America/New_York
BEGIN:DAYLIGHT
TZOFFSETFROM:-0500
TZOFFSETTO:-0400
TZNAME:EDT
DTSTART:20260308T070000
END:DAYLIGHT
BEGIN:STANDARD
TZOFFSETFROM:-0400
TZOFFSETTO:-0500
TZNAME:EST
DTSTART:20261101T060000
END:STANDARD
BEGIN:DAYLIGHT
TZOFFSETFROM:-0500
TZOFFSETTO:-0400
TZNAME:EDT
DTSTART:20270314T070000
END:DAYLIGHT
BEGIN:STANDARD
TZOFFSETFROM:-0400
TZOFFSETTO:-0500
TZNAME:EST
DTSTART:20271107T060000
END:STANDARD
BEGIN:DAYLIGHT
TZOFFSETFROM:-0500
TZOFFSETTO:-0400
TZNAME:EDT
DTSTART:20280312T070000
END:DAYLIGHT
BEGIN:STANDARD
TZOFFSETFROM:-0400
TZOFFSETTO:-0500
TZNAME:EST
DTSTART:20281105T060000
END:STANDARD
END:VTIMEZONE
BEGIN:VEVENT
DTSTART;TZID=America/New_York:20270417T193000
DTEND;TZID=America/New_York:20270417T193000
DTSTAMP:20260419T080746
CREATED:20260414T130747Z
LAST-MODIFIED:20260414T151541Z
UID:2961-1807990200-1807990200@www.evpq.ca
SUMMARY:Cathédrales
DESCRIPTION:Samedi le 17 avril 2027 à 19h30 \nSalle Raoul-Jobin\, Palais Montcalm \nDirection musicale et artistique : René Joly \nLa Toccate et la Fugue en ré mineur de Johann Sebastian Bach est un chef-d’œuvre emblématique de la musique pour orgue. Grâce à cette œuvre et à bien d’autres\, l’EVPQ vous transportera dans de véritables Cathédrales\, tout en vous permettant de découvrir ou redécouvrir le fameux orgue Casavant du Palais Montcalm\, inauguré en 2013 ! \nAu programme : \n\nToccate et Fugue ― Johann Sebastian Bach\, arr. Donald Hunsberger\nSymphonie no 3 : Finale ― Camille Saint-Saëns\, arr. Evan VanDoren\nCathedrals ― Kathryn Salfelder\nThe Frozen Cathedral ― John Mackey\n\nAcheter un billet
URL:https://www.evpq.ca/evenement/cathedrales/
LOCATION:Salle Raoul-Jobin\, Palais Montcalm
CATEGORIES:Concerts 2026-2027
ATTACH;FMTTYPE=image/png:https://www.evpq.ca/wp-content/uploads/2026/04/SNE-EVPQ_Referencement-1200x360-03.png
END:VEVENT
END:VCALENDAR