BEGIN:VCALENDAR
VERSION:2.0
PRODID:-//EVPQ - ECPv6.15.20//NONSGML v1.0//EN
CALSCALE:GREGORIAN
METHOD:PUBLISH
X-WR-CALNAME:EVPQ
X-ORIGINAL-URL:https://www.evpq.ca
X-WR-CALDESC:Évènements pour EVPQ
REFRESH-INTERVAL;VALUE=DURATION:PT1H
X-Robots-Tag:noindex
X-PUBLISHED-TTL:PT1H
BEGIN:VTIMEZONE
TZID:America/New_York
BEGIN:DAYLIGHT
TZOFFSETFROM:-0500
TZOFFSETTO:-0400
TZNAME:EDT
DTSTART:20220313T070000
END:DAYLIGHT
BEGIN:STANDARD
TZOFFSETFROM:-0400
TZOFFSETTO:-0500
TZNAME:EST
DTSTART:20221106T060000
END:STANDARD
BEGIN:DAYLIGHT
TZOFFSETFROM:-0500
TZOFFSETTO:-0400
TZNAME:EDT
DTSTART:20230312T070000
END:DAYLIGHT
BEGIN:STANDARD
TZOFFSETFROM:-0400
TZOFFSETTO:-0500
TZNAME:EST
DTSTART:20231105T060000
END:STANDARD
BEGIN:DAYLIGHT
TZOFFSETFROM:-0500
TZOFFSETTO:-0400
TZNAME:EDT
DTSTART:20240310T070000
END:DAYLIGHT
BEGIN:STANDARD
TZOFFSETFROM:-0400
TZOFFSETTO:-0500
TZNAME:EST
DTSTART:20241103T060000
END:STANDARD
END:VTIMEZONE
BEGIN:VEVENT
DTSTART;TZID=America/New_York:20230218T200000
DTEND;TZID=America/New_York:20230218T200000
DTSTAMP:20260423T063627
CREATED:20230428T125603Z
LAST-MODIFIED:20260414T142424Z
UID:1684-1676750400-1676750400@www.evpq.ca
SUMMARY:Blanc divin
DESCRIPTION:Blanc divin \nSamedi 18 février 2023 à 20 h – Salle Raoul-Jobin du Palais Montcalm. \nPureté\, lumière\, transparence\, immensité et absolu sont au menu du deuxième concert de cette saison vertigineuse. La Comédie divine\, Lux Aurumque\, Angels in the Architecture\, Sheltering Sky\, tout dans ce programme aspire aux plus hauts sommets de la spiritualité et de la condition humaine. L’horizon1\ns’ouvre pour laisser filtrer une musique divine\, portée à vos oreilles par les 66 musiciens de l’EVPQ.
URL:https://www.evpq.ca/evenement/blanc-divin/
LOCATION:Salle Raoul-Jobin\, Palais Montcalm
CATEGORIES:Concerts passés 2022-2023
ATTACH;FMTTYPE=image/png:https://www.evpq.ca/wp-content/uploads/2023/04/blanc-divin_optimized.png
END:VEVENT
END:VCALENDAR