BEGIN:VCALENDAR
VERSION:2.0
PRODID:-//EVPQ - ECPv6.15.20//NONSGML v1.0//EN
CALSCALE:GREGORIAN
METHOD:PUBLISH
X-WR-CALNAME:EVPQ
X-ORIGINAL-URL:https://www.evpq.ca
X-WR-CALDESC:Évènements pour EVPQ
REFRESH-INTERVAL;VALUE=DURATION:PT1H
X-Robots-Tag:noindex
X-PUBLISHED-TTL:PT1H
BEGIN:VTIMEZONE
TZID:America/New_York
BEGIN:DAYLIGHT
TZOFFSETFROM:-0500
TZOFFSETTO:-0400
TZNAME:EDT
DTSTART:20210314T070000
END:DAYLIGHT
BEGIN:STANDARD
TZOFFSETFROM:-0400
TZOFFSETTO:-0500
TZNAME:EST
DTSTART:20211107T060000
END:STANDARD
BEGIN:DAYLIGHT
TZOFFSETFROM:-0500
TZOFFSETTO:-0400
TZNAME:EDT
DTSTART:20220313T070000
END:DAYLIGHT
BEGIN:STANDARD
TZOFFSETFROM:-0400
TZOFFSETTO:-0500
TZNAME:EST
DTSTART:20221106T060000
END:STANDARD
BEGIN:DAYLIGHT
TZOFFSETFROM:-0500
TZOFFSETTO:-0400
TZNAME:EDT
DTSTART:20230312T070000
END:DAYLIGHT
BEGIN:STANDARD
TZOFFSETFROM:-0400
TZOFFSETTO:-0500
TZNAME:EST
DTSTART:20231105T060000
END:STANDARD
END:VTIMEZONE
BEGIN:VEVENT
DTSTART;TZID=America/New_York:20221029T200000
DTEND;TZID=America/New_York:20221029T200000
DTSTAMP:20260423T130554
CREATED:20230407T165108Z
LAST-MODIFIED:20260414T142418Z
UID:1149-1667073600-1667073600@www.evpq.ca
SUMMARY:Noir d'Halloween
DESCRIPTION:Samedi 29 octobre 2022 à 20 h et dimanche 30 octobre 2022 à 14 h (Concert famille précédé d’un bazar à 13 h) \nÀ la salle Henri-Gagnon de l’Université Laval. \nDans le sombre château connu sous le nom de Cleydael Castle\, sur une colline venteuse\, Par un soir d’Halloween\, les personnages de Ma Mère l’Oye se rencontrent pour virevolter au son des Shadow Waltzes. Ils s’amusent tant et si bien que de curieuses créatures quittent Les mines de la Moria pour se joindre à leur danse. Adultes\, enfants\, tout le monde est convié au concert famille Noir d’Halloween pour valser avec l’EVPQ.
URL:https://www.evpq.ca/evenement/noir-dhalloween/
LOCATION:Salle Henri-Gagnon\, Université Laval
CATEGORIES:Concerts passés 2022-2023
ATTACH;FMTTYPE=image/png:https://www.evpq.ca/wp-content/uploads/2023/04/noir-d-halloween2_optimized.png
END:VEVENT
END:VCALENDAR